BEGIN:VCALENDAR
VERSION:2.0
PRODID:-//ChamberMaster//Event Calendar 2.0//EN
METHOD:PUBLISH
X-PUBLISHED-TTL:P3D
REFRESH-INTERVAL:P3D
CALSCALE:GREGORIAN
BEGIN:VEVENT
DTSTART:20100327T130000Z
DTEND:20100327T170000Z
X-MICROSOFT-CDO-ALLDAYEVENT:FALSE
SUMMARY:Trash Bash 2010
DESCRIPTION:
X-ALT-DESC;FMTTYPE=text/html:
LOCATION:Texas City Dike900 Bay Street Texas City\, TX 77590
UID:e.2983.183
SEQUENCE:3
DTSTAMP:20260423T200857Z
URL:http://tclmchamber.chambermaster.com/events/details/trash-bash-2010-03-27-2010-183
END:VEVENT

END:VCALENDAR
